BEGIN:VCALENDAR
VERSION:2.0
PRODID:-//VoCASA volleybal Nijmegen - ECPv6.15.20//NONSGML v1.0//EN
CALSCALE:GREGORIAN
METHOD:PUBLISH
X-ORIGINAL-URL:https://vocasa.nl
X-WR-CALDESC:Evenementen voor VoCASA volleybal Nijmegen
REFRESH-INTERVAL;VALUE=DURATION:PT1H
X-Robots-Tag:noindex
X-PUBLISHED-TTL:PT1H
BEGIN:VTIMEZONE
TZID:Europe/Amsterdam
BEGIN:DAYLIGHT
TZOFFSETFROM:+0100
TZOFFSETTO:+0200
TZNAME:CEST
DTSTART:20220327T010000
END:DAYLIGHT
BEGIN:STANDARD
TZOFFSETFROM:+0200
TZOFFSETTO:+0100
TZNAME:CET
DTSTART:20221030T010000
END:STANDARD
BEGIN:DAYLIGHT
TZOFFSETFROM:+0100
TZOFFSETTO:+0200
TZNAME:CEST
DTSTART:20230326T010000
END:DAYLIGHT
BEGIN:STANDARD
TZOFFSETFROM:+0200
TZOFFSETTO:+0100
TZNAME:CET
DTSTART:20231029T010000
END:STANDARD
BEGIN:DAYLIGHT
TZOFFSETFROM:+0100
TZOFFSETTO:+0200
TZNAME:CEST
DTSTART:20240331T010000
END:DAYLIGHT
BEGIN:STANDARD
TZOFFSETFROM:+0200
TZOFFSETTO:+0100
TZNAME:CET
DTSTART:20241027T010000
END:STANDARD
END:VTIMEZONE
BEGIN:VTIMEZONE
TZID:UTC
BEGIN:STANDARD
TZOFFSETFROM:+0000
TZOFFSETTO:+0000
TZNAME:UTC
DTSTART:20210101T000000
END:STANDARD
END:VTIMEZONE
BEGIN:VEVENT
DTSTART;TZID=Europe/Amsterdam:20230625T100000
DTEND;TZID=Europe/Amsterdam:20230625T170000
DTSTAMP:20260419T141917
CREATED:20230608T113839Z
LAST-MODIFIED:20230608T125538Z
UID:22090-1687687200-1687712400@vocasa.nl
SUMMARY:NJOI doet! in VoCASA-hal
DESCRIPTION:Njoi Doet!\nDit jaar een bijzonder gaaf evenement om op een heel toffe wijze geld op te halen voor Njoi Doet!\nTwee jaar geleden is Njoi Doet! opgericht. Een initiatief van en voor (volleyende) jongeren voor een goede doel. \n25 juni beginnen we rond 10:30 in de VoCASA-hal Nijmegen\nOp 25 juni organiseren wij een toernooi waarbij iedere speler van Njoi Academy Nijmegen een idool vraagt om samen het toernooi te spelen\, denk aan een Edwin Benne\, Maret Grothues\, Mats Bleeker en andere kampioenen.\nEen zaal vol met professionele spelers die allemaal een bult aan ervaring hebben en dat enthousiast overdragen aan de jongeren van de Njoi Academy.\nDaar komt publiek op af en leent zich bijzonder goed voor positieve pr en de inzameling van geld voor het goede doel. \nMaret Grothues over NJOI doet loterij \nLoterij:\nNjoi Life organiseert een loterij om geld in te zamelen voor Njoi Doet!\nEr zijn toffe prijzen te winnen zoals bijv. shirtjes van (ex-)internationals of deelname aan een training bij Orion heren 1!\nDoor loten te kopen maak je extra volleybaltrainingen mogelijk voor jongeren die hiervoor geen financiële middelen hebben. \nKoop je tickets –> www.njoilife.nl//bijdrage-fonds-njoi-doet \n\nMeer over “Njoi Doet”\n\nNjoi Doet! introductie-flyer (pdf)
URL:https://vocasa.nl/event/njoi-doet-in-vocasa-hal/
CATEGORIES:toernooi
END:VEVENT
BEGIN:VEVENT
DTSTART;VALUE=DATE:20230624
DTEND;VALUE=DATE:20230625
DTSTAMP:20260419T141917
CREATED:20230414T095923Z
LAST-MODIFIED:20230414T095923Z
UID:21991-1687564800-1687651199@vocasa.nl
SUMMARY:Groot Gemini Grastoernooi (Elst)
DESCRIPTION:Op zaterdag 24 juni 2023 organiseert volleybalvereniging Gemini uit Elst het ‘Groot Gemini Grastoernooi’. \nDit 4 tegen 4 toernooi vindt plaats op het Cool Nature Veld van de wijk Westeraam in Elst.\nEr kan worden gespeeld op twee niveaus: recreatief- en competitieniveau. Naast het toernooi zullen er ook leuke activiteiten worden georganiseerd voor kinderen.\nDe gezellige toernooidag zal worden afgesloten met een hapje eten. Er zal een frietkar langskomen met voldoende frietjes en snacks! Hiervoor kun je je\, tijdens het inschrijven voor het toernooi\, opgeven. \nInschrijven kan via de volgende link: \nGoogleForms Inschrijven Gemini Grastoernooi
URL:https://vocasa.nl/event/groot-gemini-grastoernooi-elst/
CATEGORIES:toernooi
END:VEVENT
BEGIN:VEVENT
DTSTART;TZID=Europe/Amsterdam:20230603T100000
DTEND;TZID=Europe/Amsterdam:20230603T220000
DTSTAMP:20260419T141917
CREATED:20230314T173537Z
LAST-MODIFIED:20230502T152851Z
UID:21858-1685786400-1685829600@vocasa.nl
SUMMARY:Twellolands VHT
DESCRIPTION:Twellolands VHT (voorheen Vier Hofsteden Toernooi) en  al ruim 40 jaar is het één van de grootste en leukste volleybaltoernooien van de regio Apeldoorn/Deventer waarbij prestatie en plezier hand in hand gaan. \nHet toernooi is voor alle niveaus van CMV tot en met 3e divisie! We spelen op gras en kunstgras. \nReden om je aan te melden: \n·       Elke jeugd en CMV speler krijgt een mooi aandenken van het toernooi\, een ijsje en uiteraard een kan ranja! \n·       Speelplezier voor de kids (knutsel activiteiten\, ballonnenkunstenaar\, bamboe bouwen\, bellen blazen en nog meer). \n·       Niemand wil dit sportieve\, gezellige toernooi missen! \n·       Mooie afsluiting van het volleybal seizoen! \nInschrijven kan via de website: https://www.vierhofsteden.nl/toernooi/aanmelden/ \nZaterdag 3 juni 2023\n10.00 Officiële Start 41e VierHofstedenToernooi \nHele dag: Grastoernooi in alle niveaus van 3e divisie t/m de jongste CMV jeugd \nvanaf 15.00 Twellolands met live muziek!! \n17.30 Prijsuitreiking \ntot ongeveer 22:00 VHT afterparty met lekker eten en goede live muziek voor de hele familie!
URL:https://vocasa.nl/event/twellolands-vht/
CATEGORIES:toernooi
END:VEVENT
BEGIN:VEVENT
DTSTART;VALUE=DATE:20230603
DTEND;VALUE=DATE:20230605
DTSTAMP:20260419T141917
CREATED:20230502T152607Z
LAST-MODIFIED:20230502T152607Z
UID:22021-1685750400-1685923199@vocasa.nl
SUMMARY:Saturnus Beach (Uden)
DESCRIPTION:Op 3 en 4 juni a.s. vindt Saturnus Beach op de Markt in Uden plaats ter ere van het 60-jarige jubileum van Saturnus /Hendriks Coppelmans. \nIedereen mag mee komen beachvolleyballen op deze bijzondere plaats! \nEr zijn verschillende niveaus en verschillende tijdsblokken waarvoor jullie je kunnen inschrijven. \nInschrijven saturnusbeach23 \n\nHeren hoog/dames hoog: promotieklasse en hoger\nHeren midden/dames midden: eerste klasse en lager\nLaag/Recreanten: mix van beginners en ervaren volleyballers.\n\n  \nOp zaterdagavond 3 juni sluiten we de wedstrijddag om 19:30 uur af met een King of Court-toernooi. Hierbij strijd je met een aantal teams in een afvalrace om koning van het veld te worden! Met inschrijving voor ons beachtoernooi heb je gratis toegang tot het King of Court toernooi. Je kan je ook alleen inschrijven voor het King of Court toernooi op de dag zelf bij het wedstrijdsecretariaat voor €10\,-. \nDit beachtoernooi wordt georganiseerd in verband met het 60-jarige jubileum van de volleybalclub Saturnus/Hendriks Coppelmans. Om dit goed te vieren is er op zaterdagavond 3 juni aansluitend op de wedstrijden een knallend feest bij de aanliggende horeca ’t Stulpke en Ons Caffeej.? Met jouw inschrijving voor het beachtoernooi ben je ook uitgenodigd voor het feest en krijg je een paar consumpties per team. \n 
URL:https://vocasa.nl/event/saturnus-beach-uden/
CATEGORIES:toernooi
END:VEVENT
BEGIN:VEVENT
DTSTART;VALUE=DATE:20230603
DTEND;VALUE=DATE:20230605
DTSTAMP:20260419T141917
CREATED:20230311T124403Z
LAST-MODIFIED:20230311T124804Z
UID:21834-1685750400-1685923199@vocasa.nl
SUMMARY:Switch buitentoernooi Millingen a/d Rijn
DESCRIPTION:Het 47e Switch ’87 volleybaltoernooi is op 3 & 4 juni 2023 op Sportpark De Hove in Millingen a/d Rijn.\nEr kan op gras of zand gespeeld worden. \nInschrijven gaat het snelst via de website met een directe betaalmogelijkheid via Ideal (Toernooishop – STAM (stamvolleybal.com).\nMeld je wel aan vóór 21 mei 2023. \nEr kan gespeeld worden in de volgende categorieën:\n•    6×6 op gras: Regiocompetitie & Recreanten\n•    3×3 op gras: 3e Divisie t/m 3e klasse\n•    3×3 Beach: 3e Divisie t/m 3e klasse en A-jeugd\n•    Jeugd: Aspiranten A\, B & C en CMV 9-12 jaar (CMV alleen op zaterdag).\nVoor alle jeugd-teams geldt dat er verplicht een volwassen begeleider het gehele toernooi aanwezig dient te zijn. \nHet toernooi\nSenioren en aspiranten hebben de keuze uit een tweedaags of ééndaags toernooi op\nzaterdag en/of zondag. De CMV-jeugd speelt uitsluitend op zaterdag. \n  \nUiteraard bouwen we ook weer een feestje op vrijdag- en zaterdagavond in De Feesttent. \nMet sportieve groet\,\nnamens STAM en Switch`87\nMieke van Swelm
URL:https://vocasa.nl/event/switch-buitentoernooi-millingen-a-d-rijn/
CATEGORIES:toernooi
END:VEVENT
BEGIN:VEVENT
DTSTART;TZID=Europe/Amsterdam:20230602T160000
DTEND;TZID=Europe/Amsterdam:20230604T180000
DTSTAMP:20260419T141917
CREATED:20230116T202125Z
LAST-MODIFIED:20230116T202125Z
UID:21588-1685721600-1685901600@vocasa.nl
SUMMARY:Ledub Volleybal festival
DESCRIPTION:De inschrijving voor het 51e Ledûb Volleybal Festival is geopend. \nWaar en wanneer :  2-3-4 juni op het sportpark in Budel. \n  \nInschrijven doe je heel eenvoudig via de website\, waar je ook alle overige info vindt. \nwww.ledubvolleybalfestival.nl\n 
URL:https://vocasa.nl/event/ledub-volleybal-festival/
CATEGORIES:toernooi
END:VEVENT
BEGIN:VEVENT
DTSTART;TZID=Europe/Amsterdam:20230527T090000
DTEND;TZID=Europe/Amsterdam:20230527T180000
DTSTAMP:20260419T141917
CREATED:20230506T122928Z
LAST-MODIFIED:20230506T122928Z
UID:22025-1685178000-1685210400@vocasa.nl
SUMMARY:Heyendaal Gras Toernooi
DESCRIPTION:Ook dit jaar zal NSVV Heyendaal weer het Vrienden van Heyendaal Gras Toernooi organiseren! \nHet toernooi zal op 27 mei plaatsvinden bij de Lentse Plas met als thema ‘Echte volleyballers in de jungle’. Jullie zijn van harte welkom bij deze dag vol volleybal\, muziek en plezier! De teams zullen bestaan uit 4 à 5 spelers en de inschrijfkosten per team bedragen €25 – €35. \nNa afloop van het toernooi kan je blijven om lekker pizza te eten op locatie! \nMeer informatie over het toernooi en het inschrijfformulier vind je op vvhgras.nsvvheyendaal.nl \nTot dan! \n  \nSportieve groet\, \nDe VVH Gras Commissie
URL:https://vocasa.nl/event/heyendaal-gras-toernooi/
CATEGORIES:toernooi
END:VEVENT
BEGIN:VEVENT
DTSTART;VALUE=DATE:20230527
DTEND;VALUE=DATE:20230529
DTSTAMP:20260419T141917
CREATED:20230509T122256Z
LAST-MODIFIED:20230509T122344Z
UID:22050-1685145600-1685318399@vocasa.nl
SUMMARY:Pinkstertoernooi 2023 (Sint Anthonis) KING OF THE COURT
DESCRIPTION:Het jaarlijkse Pinkstertoernooi in Sint Anthonis is nét wat anders aan dan jullie wellicht gewend zijn: het hoofdtoernooi (op gras\, erediv t/m 3e klasse niveau) op zaterdag 27 mei zal namelijk gespeeld worden in de welbekende spelvariant King Of The Court.  \nHierbij wordt er in teams van 3 spelers\, 20 minuten lang gestreden om de punten. Meer info hierover kun je vinden op de website (www.pinkstertoernooi.nl).   \nOok voor de jeugdteams !\nPer team kunnen er maximaal 4 spelers inschrijven (inschrijfkosten: €30).\nAls je graag met je hele volleybalteam wil komen kun je je eigen team onderverdelen in meerdere teams! \nNaast het volleyballen staat het Pinkstertoernooi natuurlijk ook voor een hoop gezelligheid! Zo zijn er 3 feestavonden (26\, 27 en 28 mei). Wij kunnen ons zo voorstellen dat een slaapplek in de buurt wel zo handig is. Daarom hebben wij dit jaar ook weer een camping/blokhut geregeld om te overnachten op vrijdag en zaterdag.  Als je meedoet aan het hoofdtoernooi/KOTC toernooi dan krijgen alle deelnemers van 16+ het hele weekend gratis toegang tot de feesten!!\nKortom: een weekend vol met feesten\, gezelligheid en volleybal. Hier wil je bij zijn!
URL:https://vocasa.nl/event/pinkstertoernooi-2023-sint-anthonis-king-of-the-court/
CATEGORIES:toernooi
END:VEVENT
BEGIN:VEVENT
DTSTART;TZID=Europe/Amsterdam:20230415T210000
DTEND;TZID=Europe/Amsterdam:20230416T020000
DTSTAMP:20260419T141917
CREATED:20230331T111757Z
LAST-MODIFIED:20230331T111757Z
UID:21932-1681592400-1681610400@vocasa.nl
SUMMARY:VoCASA Eindfeest 15 april
DESCRIPTION:VoCASA Eindfeest: BEACH PARTY \nDatum:            15 april\nLocatie:            Veld 3\nTijd:                 21.00 – 02.00 uur \n 15 april vinden de laatste reguliere wedstrijden van het seizoen plaats.\nWe willen het seizoen graag met zoveel mogelijk van jullie dansend afsluiten onder genot van een drankje. \nHoewel het mooie weer buiten het nog laat afweten\, zal er in de zaal sprake zijn van tropische omstandigheden want het thema is namelijk: BAY WATCH.\nTrek je meest zonnige outfit aan (nee\, dat hoeft geen bikini of speedo te zijn\, maar dat mag wel natuurlijk) en neem je teamgenoten\, sponsoren\, trainers familie en vrienden mee om te dansen op muziek van alle genres en tijden. Wij zullen ervoor zorgen dat er voor ieder wat wils is. Mocht je nog opblaasdieren of -ballen hebben liggen\, neem ze vooral mee! \n \n 
URL:https://vocasa.nl/event/vocasa-eindfeest-15-april/
LOCATION:VoCASA-hal
CATEGORIES:feest
END:VEVENT
BEGIN:VEVENT
DTSTART;TZID=Europe/Amsterdam:20230325T170000
DTEND;TZID=Europe/Amsterdam:20230325T190000
DTSTAMP:20260419T141917
CREATED:20230116T204415Z
LAST-MODIFIED:20230116T204415Z
UID:21598-1679763600-1679770800@vocasa.nl
SUMMARY:VoCASA D1 - SOMAS/Activia
DESCRIPTION:Dames 1 speelt 25 maart thuis tegen titelfavoriet Activia. \nDat belooft spektakel en hoogstaand volleybal in de VoCASA-hal \n17.00u VoCASA DS1 – SOMAS/Activia DS1
URL:https://vocasa.nl/event/vocasa-d1-somas-activia/
CATEGORIES:dames 1
END:VEVENT
BEGIN:VEVENT
DTSTART;TZID=Europe/Amsterdam:20230208T200000
DTEND;TZID=Europe/Amsterdam:20230208T220000
DTSTAMP:20260419T141917
CREATED:20230119T113621Z
LAST-MODIFIED:20230119T113621Z
UID:21638-1675886400-1675893600@vocasa.nl
SUMMARY:Beker 1/4 finale VoCASA H1 - Sliedrecht
DESCRIPTION:In 1/8 finale op 18 januari 2023 werd het 1-3 in Zevenhuizen tegen RECO/ZVH.\nDe kwartfinale is woensdagavond 8 februari tegen Sliedrecht Sport. \n20.00u VoCASA Heren 1 – Sliedrecht Sport Heren 1 (Beker\, 1/4 finale)\n 
URL:https://vocasa.nl/event/beker-1-4-finale-vocasa-h1-sliedrecht/
CATEGORIES:heren 1
END:VEVENT
BEGIN:VEVENT
DTSTART;TZID=Europe/Amsterdam:20230128T220000
DTEND;TZID=Europe/Amsterdam:20230129T020000
DTSTAMP:20260419T141917
CREATED:20230116T202749Z
LAST-MODIFIED:20230116T202749Z
UID:21591-1674943200-1674957600@vocasa.nl
SUMMARY:VoCASA-feest (thema Madagascar)
DESCRIPTION:VoCASA-feest\, thema = Madagascar\nPak je dierenpakjes maar uit de kast want op 28 januari is het weer zo ver: Het eerste vocasafeest van 2023!\nOp 28 januari is het SUPER SATURDAY en deze dag moet natuurlijk afgesloten worden met een feestje.\n\nHet thema is: MADAGASCAR .\nHoe beestiger\, hoe beter!
URL:https://vocasa.nl/event/vocasa-feest-thema-madagascar/
CATEGORIES:feest
END:VEVENT
BEGIN:VEVENT
DTSTART;TZID=Europe/Amsterdam:20230128T163000
DTEND;TZID=Europe/Amsterdam:20230128T233000
DTSTAMP:20260419T141917
CREATED:20230112T175505Z
LAST-MODIFIED:20230116T203025Z
UID:21536-1674923400-1674948600@vocasa.nl
SUMMARY:Supersaterday 28 jan
DESCRIPTION:Nieuwjaarsfeest is op Supersaterday 28 januari\, wanneer zowel Dames 1 als Heren 1 thuis speelt. \nHet paarse gevoel kan dan helemaal los gaan.. en Nijmegen is gewaarschuwd via “Nieuws uit Nijmegen”. \nhttps://www.nieuwsuitnijmegen.nl/Nieuws/13441/unieke-super-saturday-bij-nijmeegse-volleybalclub-vocasa.html \nBeide topteams van de volleybalclub VoCASA spelen zaterdag 28 januari thuis op de eerste en enige ‘Super Saturday’ van het seizoen. Bezoekers kunnen in de sporthal in Neerbosch-Oost de hele dag genieten van het hoogste niveau volleybal in de regio Nijmegen. \nOm 17.00 uur speelt Dames 1 tegen VCN Dames 1.\nOm 20.00 uur speelt Heren 1 tegen Prima Donna Kaas Huizen HS1.\nDames 1 staat op dit moment vierde in de Topdivisie\, het één na hoogste niveau in Nederland. Heren 1 komt uit in de Eredivisie\, het hoogste niveau van Nederland\, en staat zevende. Beide teams spelen die dag tegen een lager geplaatste tegenstander\, maar dat betekent niet dat ze rustig aan zullen doen: beide teams spelen dit jaar in een nieuwe samenstelling met een hoop jonge spelers\, die er iedere wedstrijd vol in gaan. Bezoekers kunnen in de kantine een warme maaltijd krijgen\, dus het is niet nodig om naar huis te gaan tussen de wedstrijden door. \n  \nWat:         Super Saturday\, top volleybal bij VoCASA in Nijmegen\nWanneer:     Zaterdag 28 januari 2023\nWaar:         Symfoniestraat 200\, 6544 TN Nijmegen\nHoe laat:     Dames 1 om 17.00 uur\, Heren 1 om 20.00 uur \n  \nAansluitend feest in de VoCASA-bar \nvanaf 22.00u VoCASA-feest\, thema = Madagascar\nPak je dierenpakjes maar uit de kast want op 28 januari is het weer zo ver: Het eerste vocasafeest van 2023!\nOp 28 januari is het SUPER SATURDAY en deze dag moet natuurlijk afgesloten worden met een feestje.\nHet thema is: MADAGASCAR .\nHoe beestiger\, hoe beter!
URL:https://vocasa.nl/event/supersaterday-28-jan/
CATEGORIES:actie,dames 1,feest,heren 1
END:VEVENT
BEGIN:VEVENT
DTSTART;TZID=Europe/Amsterdam:20230121T200000
DTEND;TZID=Europe/Amsterdam:20230121T220000
DTSTAMP:20260419T141917
CREATED:20230116T203506Z
LAST-MODIFIED:20230117T193458Z
UID:21594-1674331200-1674338400@vocasa.nl
SUMMARY:VoCASA H1 - Draisma Dynamo
DESCRIPTION:21 januari : VoCASA Heren 1 tegen Landskampioen Dynamo \nIn november won VoCASA Heren 1 sensationeel met 3-2 uit bij landskampioen Draisma Dynamo. \nLukt het 21 januari weer om te stunten ?\nKom de mannen aanmoedigen en geniet van topvolleybal in de VoCASA-hal. \n20.00u VoCASA H1 – Draisma Dynamo H1
URL:https://vocasa.nl/event/vocasa-h1-draisma-dynamo/
CATEGORIES:heren 1
END:VEVENT
BEGIN:VEVENT
DTSTART;TZID=Europe/Amsterdam:20230118T193000
DTEND;TZID=Europe/Amsterdam:20230118T223000
DTSTAMP:20260419T141917
CREATED:20230117T183428Z
LAST-MODIFIED:20230117T193636Z
UID:21617-1674070200-1674081000@vocasa.nl
SUMMARY:Beker 1/8 finale ZVH-VoCASA
DESCRIPTION:Op woensdag 18 januari speelt VoCASA Heren 1 in de 1/8 finale van de beker tegen RECO/ZVH. \nOm 19.30u begint de wedstrijd in Zevenhuizen en het is te volgen via de livestream op volleybal.nl \n\n\n18 jan 19.30u RECO/ZVH HS1 – VoCASA HS 1\n\n\nhttps://www.volleybal.nl/competitie/wedstrijd/NBH4-01/nationale-competitie \n 
URL:https://vocasa.nl/event/beker-1-8-finale-zvh-vocasa/
CATEGORIES:heren 1
END:VEVENT
BEGIN:VEVENT
DTSTART;TZID=Europe/Amsterdam:20230114T200000
DTEND;TZID=Europe/Amsterdam:20230114T220000
DTSTAMP:20260419T141917
CREATED:20230116T203744Z
LAST-MODIFIED:20230116T203744Z
UID:21596-1673726400-1673733600@vocasa.nl
SUMMARY:Volley Pong
DESCRIPTION:14 januari 20.00u Volley Pong “VoCASA-clubkampioenschappen”.\nZowel voor jeugdleden als senioren\, iedereen is welkom. Teams van 4 zijn ideaal!\nEr zijn al 17 teams aangemeld\, zowel uit de zaterdag als uit de donderdag “selecties”.\nzowel jeugd als senioren starten zaterdag om 20.00u met de stuiteren. \nDie dag spelen Dames 2 en Dames 1 hun eerste thuiswedstrijden en tijdens deze wedstrijden kunnen bezoekers meedoen met de tribune-bingo\, die gebaseerd is op acties die in het veld plaatsvinden en waarmee speciale VoCASA prijzen gewonnen kunnen worden. \nOm 20.00 uur vindt de eerste editie van het Volleypong Toernooi plaats. \n“Denk bierpong\, maar dan met emmers en volleyballen”\, zegt Julian\, lid van de activiteitencommissie en speler van Heren 2. “Iedereen kan meedoen\, van jong tot oud. We hebben nu 15 teams: een mix tussen jeugd en senioren\, van prestatieve tot recreatieve teams. Op die manier hopen we dat we de leden weer met elkaar kunnen verbinden na drie seizoenen die beïnvloed werden door COVID-19.”
URL:https://vocasa.nl/event/volley-pong/
CATEGORIES:actie
END:VEVENT
BEGIN:VEVENT
DTSTART;TZID=Europe/Amsterdam:20230114T200000
DTEND;TZID=Europe/Amsterdam:20230114T220000
DTSTAMP:20260419T141917
CREATED:20230112T175230Z
LAST-MODIFIED:20230112T185814Z
UID:21533-1673726400-1673733600@vocasa.nl
SUMMARY:Volley Pong clubkampioenschap
DESCRIPTION:Stuiterend het nieuwe jaar in.\n14 januari 20.00u Volley Pong “VoCASA-clubkampioenschappen”. \nZowel voor jeugdleden als senioren\, iedereen is welkom. Teams van 4 zijn ideaal! \nEr zijn al 17 teams aangemeld\, zowel uit de zaterdag als uit de donderdag “selecties”.\nzowel jeugd als senioren starten zaterdag om 20.00u met de stuiteren. \n \n  \nDe eerste thuiswedstrijden van de club vinden al plaats op 12 januari\, maar de jaar-opening vindt plaats op 14 januari. \nDie dag spelen Dames 2 en Dames 1 hun eerste thuiswedstrijden en tijdens deze wedstrijden kunnen bezoekers meedoen met de tribune-bingo\, die gebaseerd is op acties die in het veld plaatsvinden en waarmee speciale VoCASA prijzen gewonnen kunnen worden. \nOm 20.00 uur vindt de eerste editie van het Volleypong Toernooi plaats. \n“Denk bierpong\, maar dan met emmers en volleyballen”\, zegt Julian\, lid van de activiteitencommissie en speler van Heren 2. “Iedereen kan meedoen\, van jong tot oud. We hebben nu 15 teams: een mix tussen jeugd en senioren\, van prestatieve tot recreatieve teams. Op die manier hopen we dat we de leden weer met elkaar kunnen verbinden na drie seizoenen die beïnvloed werden door COVID-19.”
URL:https://vocasa.nl/event/volley-pong-clubkampioenschap/
CATEGORIES:toernooi
END:VEVENT
BEGIN:VEVENT
DTSTART;TZID=UTC:20221001T200000
DTEND;TZID=UTC:20221001T220000
DTSTAMP:20260419T141917
CREATED:20220921T194637Z
LAST-MODIFIED:20220921T194637Z
UID:20530-1664654400-1664661600@vocasa.nl
SUMMARY:VoCASA-ZVH (Eredivisie Heren)
DESCRIPTION:Zaterdag 1 oktober 2022 start de eredivisie-competitie \nVoCASA heren 1 speelt op 20.00u thuis in eigen VoCASA-hal tegen RECO/ZVH \n 
URL:https://vocasa.nl/event/vocasa-zvh-eredivisie-heren/
CATEGORIES:heren 1,topwedstrijd
END:VEVENT
BEGIN:VEVENT
DTSTART;TZID=UTC:20220925T144500
DTEND;TZID=UTC:20220925T163000
DTSTAMP:20260419T141917
CREATED:20220921T195343Z
LAST-MODIFIED:20220921T195343Z
UID:20537-1664117100-1664123400@vocasa.nl
SUMMARY:Oefenwedstrijd VoCASA H1- SSS
DESCRIPTION:Op 24 en 25 sept speelt VoCASA Heren 1 oefenwedstrijden in de VoCASA-hal in Nijmegen.\nZaterdag om 20.00 uur tegen RECO/ZVH \,\nzondag om 14.45 uur tegen Simplex/SSS. \nPubliek is van harte welkom.
URL:https://vocasa.nl/event/oefenwedstrijd-vocasa-h1-sss/
END:VEVENT
END:VCALENDAR