BEGIN:VCALENDAR
VERSION:2.0
PRODID:-//VoCASA volleybal Nijmegen - ECPv6.15.20//NONSGML v1.0//EN
CALSCALE:GREGORIAN
METHOD:PUBLISH
X-WR-CALNAME:VoCASA volleybal Nijmegen
X-ORIGINAL-URL:https://vocasa.nl
X-WR-CALDESC:Evenementen voor VoCASA volleybal Nijmegen
REFRESH-INTERVAL;VALUE=DURATION:PT1H
X-Robots-Tag:noindex
X-PUBLISHED-TTL:PT1H
BEGIN:VTIMEZONE
TZID:Europe/Amsterdam
BEGIN:DAYLIGHT
TZOFFSETFROM:+0100
TZOFFSETTO:+0200
TZNAME:CEST
DTSTART:20220327T010000
END:DAYLIGHT
BEGIN:STANDARD
TZOFFSETFROM:+0200
TZOFFSETTO:+0100
TZNAME:CET
DTSTART:20221030T010000
END:STANDARD
BEGIN:DAYLIGHT
TZOFFSETFROM:+0100
TZOFFSETTO:+0200
TZNAME:CEST
DTSTART:20230326T010000
END:DAYLIGHT
BEGIN:STANDARD
TZOFFSETFROM:+0200
TZOFFSETTO:+0100
TZNAME:CET
DTSTART:20231029T010000
END:STANDARD
BEGIN:DAYLIGHT
TZOFFSETFROM:+0100
TZOFFSETTO:+0200
TZNAME:CEST
DTSTART:20240331T010000
END:DAYLIGHT
BEGIN:STANDARD
TZOFFSETFROM:+0200
TZOFFSETTO:+0100
TZNAME:CET
DTSTART:20241027T010000
END:STANDARD
END:VTIMEZONE
BEGIN:VTIMEZONE
TZID:UTC
BEGIN:STANDARD
TZOFFSETFROM:+0000
TZOFFSETTO:+0000
TZNAME:UTC
DTSTART:20210101T000000
END:STANDARD
END:VTIMEZONE
BEGIN:VEVENT
DTSTART;TZID=Europe/Amsterdam:20230208T200000
DTEND;TZID=Europe/Amsterdam:20230208T220000
DTSTAMP:20260419T160227
CREATED:20230119T113621Z
LAST-MODIFIED:20230119T113621Z
UID:21638-1675886400-1675893600@vocasa.nl
SUMMARY:Beker 1/4 finale VoCASA H1 - Sliedrecht
DESCRIPTION:In 1/8 finale op 18 januari 2023 werd het 1-3 in Zevenhuizen tegen RECO/ZVH.\nDe kwartfinale is woensdagavond 8 februari tegen Sliedrecht Sport. \n20.00u VoCASA Heren 1 – Sliedrecht Sport Heren 1 (Beker\, 1/4 finale)\n 
URL:https://vocasa.nl/event/beker-1-4-finale-vocasa-h1-sliedrecht/
CATEGORIES:heren 1
END:VEVENT
BEGIN:VEVENT
DTSTART;TZID=Europe/Amsterdam:20230128T220000
DTEND;TZID=Europe/Amsterdam:20230129T020000
DTSTAMP:20260419T160227
CREATED:20230116T202749Z
LAST-MODIFIED:20230116T202749Z
UID:21591-1674943200-1674957600@vocasa.nl
SUMMARY:VoCASA-feest (thema Madagascar)
DESCRIPTION:VoCASA-feest\, thema = Madagascar\nPak je dierenpakjes maar uit de kast want op 28 januari is het weer zo ver: Het eerste vocasafeest van 2023!\nOp 28 januari is het SUPER SATURDAY en deze dag moet natuurlijk afgesloten worden met een feestje.\n\nHet thema is: MADAGASCAR .\nHoe beestiger\, hoe beter!
URL:https://vocasa.nl/event/vocasa-feest-thema-madagascar/
CATEGORIES:feest
END:VEVENT
BEGIN:VEVENT
DTSTART;TZID=Europe/Amsterdam:20230128T163000
DTEND;TZID=Europe/Amsterdam:20230128T233000
DTSTAMP:20260419T160227
CREATED:20230112T175505Z
LAST-MODIFIED:20230116T203025Z
UID:21536-1674923400-1674948600@vocasa.nl
SUMMARY:Supersaterday 28 jan
DESCRIPTION:Nieuwjaarsfeest is op Supersaterday 28 januari\, wanneer zowel Dames 1 als Heren 1 thuis speelt. \nHet paarse gevoel kan dan helemaal los gaan.. en Nijmegen is gewaarschuwd via “Nieuws uit Nijmegen”. \nhttps://www.nieuwsuitnijmegen.nl/Nieuws/13441/unieke-super-saturday-bij-nijmeegse-volleybalclub-vocasa.html \nBeide topteams van de volleybalclub VoCASA spelen zaterdag 28 januari thuis op de eerste en enige ‘Super Saturday’ van het seizoen. Bezoekers kunnen in de sporthal in Neerbosch-Oost de hele dag genieten van het hoogste niveau volleybal in de regio Nijmegen. \nOm 17.00 uur speelt Dames 1 tegen VCN Dames 1.\nOm 20.00 uur speelt Heren 1 tegen Prima Donna Kaas Huizen HS1.\nDames 1 staat op dit moment vierde in de Topdivisie\, het één na hoogste niveau in Nederland. Heren 1 komt uit in de Eredivisie\, het hoogste niveau van Nederland\, en staat zevende. Beide teams spelen die dag tegen een lager geplaatste tegenstander\, maar dat betekent niet dat ze rustig aan zullen doen: beide teams spelen dit jaar in een nieuwe samenstelling met een hoop jonge spelers\, die er iedere wedstrijd vol in gaan. Bezoekers kunnen in de kantine een warme maaltijd krijgen\, dus het is niet nodig om naar huis te gaan tussen de wedstrijden door. \n  \nWat:         Super Saturday\, top volleybal bij VoCASA in Nijmegen\nWanneer:     Zaterdag 28 januari 2023\nWaar:         Symfoniestraat 200\, 6544 TN Nijmegen\nHoe laat:     Dames 1 om 17.00 uur\, Heren 1 om 20.00 uur \n  \nAansluitend feest in de VoCASA-bar \nvanaf 22.00u VoCASA-feest\, thema = Madagascar\nPak je dierenpakjes maar uit de kast want op 28 januari is het weer zo ver: Het eerste vocasafeest van 2023!\nOp 28 januari is het SUPER SATURDAY en deze dag moet natuurlijk afgesloten worden met een feestje.\nHet thema is: MADAGASCAR .\nHoe beestiger\, hoe beter!
URL:https://vocasa.nl/event/supersaterday-28-jan/
CATEGORIES:actie,dames 1,feest,heren 1
END:VEVENT
BEGIN:VEVENT
DTSTART;TZID=Europe/Amsterdam:20230121T200000
DTEND;TZID=Europe/Amsterdam:20230121T220000
DTSTAMP:20260419T160227
CREATED:20230116T203506Z
LAST-MODIFIED:20230117T193458Z
UID:21594-1674331200-1674338400@vocasa.nl
SUMMARY:VoCASA H1 - Draisma Dynamo
DESCRIPTION:21 januari : VoCASA Heren 1 tegen Landskampioen Dynamo \nIn november won VoCASA Heren 1 sensationeel met 3-2 uit bij landskampioen Draisma Dynamo. \nLukt het 21 januari weer om te stunten ?\nKom de mannen aanmoedigen en geniet van topvolleybal in de VoCASA-hal. \n20.00u VoCASA H1 – Draisma Dynamo H1
URL:https://vocasa.nl/event/vocasa-h1-draisma-dynamo/
CATEGORIES:heren 1
END:VEVENT
BEGIN:VEVENT
DTSTART;TZID=Europe/Amsterdam:20230118T193000
DTEND;TZID=Europe/Amsterdam:20230118T223000
DTSTAMP:20260419T160227
CREATED:20230117T183428Z
LAST-MODIFIED:20230117T193636Z
UID:21617-1674070200-1674081000@vocasa.nl
SUMMARY:Beker 1/8 finale ZVH-VoCASA
DESCRIPTION:Op woensdag 18 januari speelt VoCASA Heren 1 in de 1/8 finale van de beker tegen RECO/ZVH. \nOm 19.30u begint de wedstrijd in Zevenhuizen en het is te volgen via de livestream op volleybal.nl \n\n\n18 jan 19.30u RECO/ZVH HS1 – VoCASA HS 1\n\n\nhttps://www.volleybal.nl/competitie/wedstrijd/NBH4-01/nationale-competitie \n 
URL:https://vocasa.nl/event/beker-1-8-finale-zvh-vocasa/
CATEGORIES:heren 1
END:VEVENT
BEGIN:VEVENT
DTSTART;TZID=Europe/Amsterdam:20230114T200000
DTEND;TZID=Europe/Amsterdam:20230114T220000
DTSTAMP:20260419T160227
CREATED:20230116T203744Z
LAST-MODIFIED:20230116T203744Z
UID:21596-1673726400-1673733600@vocasa.nl
SUMMARY:Volley Pong
DESCRIPTION:14 januari 20.00u Volley Pong “VoCASA-clubkampioenschappen”.\nZowel voor jeugdleden als senioren\, iedereen is welkom. Teams van 4 zijn ideaal!\nEr zijn al 17 teams aangemeld\, zowel uit de zaterdag als uit de donderdag “selecties”.\nzowel jeugd als senioren starten zaterdag om 20.00u met de stuiteren. \nDie dag spelen Dames 2 en Dames 1 hun eerste thuiswedstrijden en tijdens deze wedstrijden kunnen bezoekers meedoen met de tribune-bingo\, die gebaseerd is op acties die in het veld plaatsvinden en waarmee speciale VoCASA prijzen gewonnen kunnen worden. \nOm 20.00 uur vindt de eerste editie van het Volleypong Toernooi plaats. \n“Denk bierpong\, maar dan met emmers en volleyballen”\, zegt Julian\, lid van de activiteitencommissie en speler van Heren 2. “Iedereen kan meedoen\, van jong tot oud. We hebben nu 15 teams: een mix tussen jeugd en senioren\, van prestatieve tot recreatieve teams. Op die manier hopen we dat we de leden weer met elkaar kunnen verbinden na drie seizoenen die beïnvloed werden door COVID-19.”
URL:https://vocasa.nl/event/volley-pong/
CATEGORIES:actie
END:VEVENT
BEGIN:VEVENT
DTSTART;TZID=Europe/Amsterdam:20230114T200000
DTEND;TZID=Europe/Amsterdam:20230114T220000
DTSTAMP:20260419T160227
CREATED:20230112T175230Z
LAST-MODIFIED:20230112T185814Z
UID:21533-1673726400-1673733600@vocasa.nl
SUMMARY:Volley Pong clubkampioenschap
DESCRIPTION:Stuiterend het nieuwe jaar in.\n14 januari 20.00u Volley Pong “VoCASA-clubkampioenschappen”. \nZowel voor jeugdleden als senioren\, iedereen is welkom. Teams van 4 zijn ideaal! \nEr zijn al 17 teams aangemeld\, zowel uit de zaterdag als uit de donderdag “selecties”.\nzowel jeugd als senioren starten zaterdag om 20.00u met de stuiteren. \n \n  \nDe eerste thuiswedstrijden van de club vinden al plaats op 12 januari\, maar de jaar-opening vindt plaats op 14 januari. \nDie dag spelen Dames 2 en Dames 1 hun eerste thuiswedstrijden en tijdens deze wedstrijden kunnen bezoekers meedoen met de tribune-bingo\, die gebaseerd is op acties die in het veld plaatsvinden en waarmee speciale VoCASA prijzen gewonnen kunnen worden. \nOm 20.00 uur vindt de eerste editie van het Volleypong Toernooi plaats. \n“Denk bierpong\, maar dan met emmers en volleyballen”\, zegt Julian\, lid van de activiteitencommissie en speler van Heren 2. “Iedereen kan meedoen\, van jong tot oud. We hebben nu 15 teams: een mix tussen jeugd en senioren\, van prestatieve tot recreatieve teams. Op die manier hopen we dat we de leden weer met elkaar kunnen verbinden na drie seizoenen die beïnvloed werden door COVID-19.”
URL:https://vocasa.nl/event/volley-pong-clubkampioenschap/
CATEGORIES:toernooi
END:VEVENT
BEGIN:VEVENT
DTSTART;TZID=UTC:20221001T200000
DTEND;TZID=UTC:20221001T220000
DTSTAMP:20260419T160227
CREATED:20220921T194637Z
LAST-MODIFIED:20220921T194637Z
UID:20530-1664654400-1664661600@vocasa.nl
SUMMARY:VoCASA-ZVH (Eredivisie Heren)
DESCRIPTION:Zaterdag 1 oktober 2022 start de eredivisie-competitie \nVoCASA heren 1 speelt op 20.00u thuis in eigen VoCASA-hal tegen RECO/ZVH \n 
URL:https://vocasa.nl/event/vocasa-zvh-eredivisie-heren/
CATEGORIES:heren 1,topwedstrijd
END:VEVENT
BEGIN:VEVENT
DTSTART;TZID=UTC:20220925T144500
DTEND;TZID=UTC:20220925T163000
DTSTAMP:20260419T160227
CREATED:20220921T195343Z
LAST-MODIFIED:20220921T195343Z
UID:20537-1664117100-1664123400@vocasa.nl
SUMMARY:Oefenwedstrijd VoCASA H1- SSS
DESCRIPTION:Op 24 en 25 sept speelt VoCASA Heren 1 oefenwedstrijden in de VoCASA-hal in Nijmegen.\nZaterdag om 20.00 uur tegen RECO/ZVH \,\nzondag om 14.45 uur tegen Simplex/SSS. \nPubliek is van harte welkom.
URL:https://vocasa.nl/event/oefenwedstrijd-vocasa-h1-sss/
END:VEVENT
END:VCALENDAR